{"text_format":"1","workbook":"xlsx","n_sheets":2,"sheets":["FuentesSelladas","Gamma"],"not_rendered":{"charts":0,"images":1,"macros":1,"external_links":0,"defined_names":21,"comments":0,"pivot_tables":0},"unopened":[],"bounds":{"document_bytes":16777216,"sheet_cells":100000,"rows_first":2000,"rows_last":500,"rows_between":2000,"halvings":0,"cell_chars":16384,"cell_head_chars":4096},"cells_cut":0,"cells_raw":0,"read":"whole","date_system":"1900"}

{"sheet":"FuentesSelladas","index":0,"n_rows":29,"n_cols":11,"rows_kept":29,"cut":false,"hidden":false,"merged":[]}
["[ID] Identificación de la fuente","[RN] Radio-nucleído","[T 1/2]  Periodo de semi-desintegración (días)","Actividad nominal de la fuente (certificado de producción)                     (Bq)","Fecha de referencia del certificado de producción         dd-mm-aa","Actividad de la fuente en desuso (Bq)","Fecha de referencia          dd-mm-aa","[ND]             Nivel de Dispensa     (Bq)","[t]           Tiempo de decaimiento (d)","Fecha probable de dispensa","Fecha de dispensa             "]
["2","Ir-192",{"$f":"VLOOKUP(B2,Gamma!$A$2:$C$7,2,FALSE)","v":74},"4080000000000","2016-10-18",{"$f":"+D2*EXP(-(G2-E2)*0.69/C2)","v":146213587918.27225},"2017-10-10",{"$f":"VLOOKUP(B2,Gamma!$A$2:$C$7,3,FALSE)","v":10000},{"$f":"IF(H2>F2,0,C2*LN((F2)/H2))/LN(2)","v":1761.3164800137013},{"$f":"G2+I2","v":"2022-08-06T07:35:43.873"}]
["3","Ir-192",{"$f":"VLOOKUP(B3,Gamma!$A$2:$C$7,2,FALSE)","v":74},"40800000000","2016-10-18",1462135879.1827223,"2017-10-10",{"$f":"VLOOKUP(B3,Gamma!$A$2:$C$7,3,FALSE)","v":10000},1269.6711219703716,"2021-04-01T16:06:24.938"]
[null,null,{"$f":"VLOOKUP(B4,Gamma!$A$2:$C$7,2,FALSE)","v":{"$error":"#N/A"}},null,null,null,null,{"$f":"VLOOKUP(B4,Gamma!$A$2:$C$7,3,FALSE)","v":{"$error":"#N/A"}},{"$error":"#N/A"},{"$error":"#N/A"}]
[null,null,{"$f":"VLOOKUP(B5,Gamma!$A$2:$C$7,2,FALSE)","v":{"$error":"#N/A"}},null,null,null,null,{"$f":"VLOOKUP(B5,Gamma!$A$2:$C$7,3,FALSE)","v":{"$error":"#N/A"}},{"$error":"#N/A"},{"$error":"#N/A"}]
[null,null,{"$f":"VLOOKUP(B6,Gamma!$A$2:$C$7,2,FALSE)","v":{"$error":"#N/A"}},null,null,null,null,{"$f":"VLOOKUP(B6,Gamma!$A$2:$C$7,3,FALSE)","v":{"$error":"#N/A"}},{"$error":"#N/A"},{"$error":"#N/A"}]
[null,null,{"$f":"VLOOKUP(B7,Gamma!$A$2:$C$7,2,FALSE)","v":{"$error":"#N/A"}},null,null,null,null,{"$f":"VLOOKUP(B7,Gamma!$A$2:$C$7,3,FALSE)","v":{"$error":"#N/A"}},{"$error":"#N/A"},{"$error":"#N/A"}]
[null,null,{"$f":"VLOOKUP(B8,Gamma!$A$2:$C$7,2,FALSE)","v":{"$error":"#N/A"}},null,null,null,null,{"$f":"VLOOKUP(B8,Gamma!$A$2:$C$7,3,FALSE)","v":{"$error":"#N/A"}},{"$error":"#N/A"},{"$error":"#N/A"}]
[null,null,{"$f":"VLOOKUP(B9,Gamma!$A$2:$C$7,2,FALSE)","v":{"$error":"#N/A"}},null,null,null,null,{"$f":"VLOOKUP(B9,Gamma!$A$2:$C$7,3,FALSE)","v":{"$error":"#N/A"}},{"$error":"#N/A"},{"$error":"#N/A"}]
[null,null,{"$f":"VLOOKUP(B10,Gamma!$A$2:$C$7,2,FALSE)","v":{"$error":"#N/A"}},null,null,null,null,{"$f":"VLOOKUP(B10,Gamma!$A$2:$C$7,3,FALSE)","v":{"$error":"#N/A"}},{"$error":"#N/A"},{"$error":"#N/A"}]
[null,null,{"$f":"VLOOKUP(B11,Gamma!$A$2:$C$7,2,FALSE)","v":{"$error":"#N/A"}},null,null,null,null,{"$f":"VLOOKUP(B11,Gamma!$A$2:$C$7,3,FALSE)","v":{"$error":"#N/A"}},{"$error":"#N/A"},{"$error":"#N/A"}]
[null,null,{"$f":"VLOOKUP(B12,Gamma!$A$2:$C$7,2,FALSE)","v":{"$error":"#N/A"}},null,null,null,null,{"$f":"VLOOKUP(B12,Gamma!$A$2:$C$7,3,FALSE)","v":{"$error":"#N/A"}},{"$error":"#N/A"},{"$error":"#N/A"}]
[null,null,{"$f":"VLOOKUP(B13,Gamma!$A$2:$C$7,2,FALSE)","v":{"$error":"#N/A"}},null,null,null,null,{"$f":"VLOOKUP(B13,Gamma!$A$2:$C$7,3,FALSE)","v":{"$error":"#N/A"}},{"$error":"#N/A"},{"$error":"#N/A"}]
[null,null,{"$f":"VLOOKUP(B14,Gamma!$A$2:$C$7,2,FALSE)","v":{"$error":"#N/A"}},null,null,null,null,{"$f":"VLOOKUP(B14,Gamma!$A$2:$C$7,3,FALSE)","v":{"$error":"#N/A"}},{"$error":"#N/A"},{"$error":"#N/A"}]
[null,null,{"$f":"VLOOKUP(B15,Gamma!$A$2:$C$7,2,FALSE)","v":{"$error":"#N/A"}},null,null,null,null,{"$f":"VLOOKUP(B15,Gamma!$A$2:$C$7,3,FALSE)","v":{"$error":"#N/A"}},{"$error":"#N/A"},{"$error":"#N/A"}]
[null,null,{"$f":"VLOOKUP(B16,Gamma!$A$2:$C$7,2,FALSE)","v":{"$error":"#N/A"}},null,null,null,null,{"$f":"VLOOKUP(B16,Gamma!$A$2:$C$7,3,FALSE)","v":{"$error":"#N/A"}},{"$error":"#N/A"},{"$error":"#N/A"}]
[null,null,{"$f":"VLOOKUP(B17,Gamma!$A$2:$C$7,2,FALSE)","v":{"$error":"#N/A"}},null,null,null,null,{"$f":"VLOOKUP(B17,Gamma!$A$2:$C$7,3,FALSE)","v":{"$error":"#N/A"}},{"$error":"#N/A"},{"$error":"#N/A"}]
[null,null,{"$f":"VLOOKUP(B18,Gamma!$A$2:$C$7,2,FALSE)","v":{"$error":"#N/A"}},null,null,null,null,{"$f":"VLOOKUP(B18,Gamma!$A$2:$C$7,3,FALSE)","v":{"$error":"#N/A"}},{"$error":"#N/A"},{"$error":"#N/A"}]
[null,null,{"$f":"VLOOKUP(B19,Gamma!$A$2:$C$7,2,FALSE)","v":{"$error":"#N/A"}},null,null,null,null,{"$f":"VLOOKUP(B19,Gamma!$A$2:$C$7,3,FALSE)","v":{"$error":"#N/A"}},{"$error":"#N/A"},{"$error":"#N/A"}]
[null,null,{"$f":"VLOOKUP(B20,Gamma!$A$2:$C$7,2,FALSE)","v":{"$error":"#N/A"}},null,null,null,null,{"$f":"VLOOKUP(B20,Gamma!$A$2:$C$7,3,FALSE)","v":{"$error":"#N/A"}},{"$error":"#N/A"},{"$error":"#N/A"}]
[null,null,{"$f":"VLOOKUP(B21,Gamma!$A$2:$C$7,2,FALSE)","v":{"$error":"#N/A"}},null,null,null,null,{"$f":"VLOOKUP(B21,Gamma!$A$2:$C$7,3,FALSE)","v":{"$error":"#N/A"}},{"$error":"#N/A"},{"$error":"#N/A"}]
[null,null,{"$f":"VLOOKUP(B22,Gamma!$A$2:$C$7,2,FALSE)","v":{"$error":"#N/A"}},null,null,null,null,{"$f":"VLOOKUP(B22,Gamma!$A$2:$C$7,3,FALSE)","v":{"$error":"#N/A"}},{"$error":"#N/A"},{"$error":"#N/A"}]
[null,null,{"$f":"VLOOKUP(B23,Gamma!$A$2:$C$7,2,FALSE)","v":{"$error":"#N/A"}},null,null,null,null,{"$f":"VLOOKUP(B23,Gamma!$A$2:$C$7,3,FALSE)","v":{"$error":"#N/A"}},{"$f":"IF(H23>F23,0,C23*LN((F23)/H23))/LN(2)","v":{"$error":"#N/A"}},{"$f":"G23+I23","v":{"$error":"#N/A"}}]
[null,null,{"$f":"VLOOKUP(B24,Gamma!$A$2:$C$7,2,FALSE)","v":{"$error":"#N/A"}},null,null,null,null,{"$f":"VLOOKUP(B24,Gamma!$A$2:$C$7,3,FALSE)","v":{"$error":"#N/A"}},{"$error":"#N/A"},{"$error":"#N/A"}]
[null,null,{"$f":"VLOOKUP(B25,Gamma!$A$2:$C$7,2,FALSE)","v":{"$error":"#N/A"}},null,null,null,null,{"$f":"VLOOKUP(B25,Gamma!$A$2:$C$7,3,FALSE)","v":{"$error":"#N/A"}},{"$error":"#N/A"},{"$error":"#N/A"}]
[null,null,{"$f":"VLOOKUP(B26,Gamma!$A$2:$C$7,2,FALSE)","v":{"$error":"#N/A"}},null,null,null,null,{"$f":"VLOOKUP(B26,Gamma!$A$2:$C$7,3,FALSE)","v":{"$error":"#N/A"}},{"$error":"#N/A"},{"$error":"#N/A"}]
[null,null,{"$f":"VLOOKUP(B27,Gamma!$A$2:$C$7,2,FALSE)","v":{"$error":"#N/A"}},null,null,null,null,{"$f":"VLOOKUP(B27,Gamma!$A$2:$C$7,3,FALSE)","v":{"$error":"#N/A"}},{"$error":"#N/A"},{"$error":"#N/A"}]
[null,null,{"$f":"VLOOKUP(B28,Gamma!$A$2:$C$7,2,FALSE)","v":{"$error":"#N/A"}},null,null,null,null,{"$f":"VLOOKUP(B28,Gamma!$A$2:$C$7,3,FALSE)","v":{"$error":"#N/A"}},{"$error":"#N/A"},{"$error":"#N/A"}]
[null,null,{"$f":"VLOOKUP(B29,Gamma!$A$2:$C$7,2,FALSE)","v":{"$error":"#N/A"}},null,null,null,null,{"$f":"VLOOKUP(B29,Gamma!$A$2:$C$7,3,FALSE)","v":{"$error":"#N/A"}},{"$error":"#N/A"},{"$error":"#N/A"}]

{"sheet":"Gamma","index":1,"n_rows":7,"n_cols":3,"rows_kept":7,"cut":false,"hidden":false,"merged":[]}
["Radionúclido","T1/2  (d)","Nivel Dispensa (Bq)"]
["P-32",14.3,100000]
["Pd-103",17,100000000]
["I-125",60.14,1000000]
["Yb-169",32,10000000]
["Ir-192",74,10000]
["Au-198",2.7,1000000]