{"text_format":"1","workbook":"xlsx","n_sheets":5,"sheets":["gamma","beta","datos Emisores Gamma","datos Emisores Beta ","datos de entrada"],"not_rendered":{"charts":0,"images":3,"macros":1,"external_links":1,"defined_names":31,"comments":0,"pivot_tables":0},"unopened":[],"bounds":{"document_bytes":16777216,"sheet_cells":100000,"rows_first":2000,"rows_last":500,"rows_between":2000,"halvings":0,"cell_chars":16384,"cell_head_chars":4096},"cells_cut":0,"cells_raw":0,"read":"whole","date_system":"1900"}

{"sheet":"gamma","index":0,"n_rows":26,"n_cols":16,"rows_kept":26,"cut":false,"hidden":false,"merged":[]}
["[ID] Identificación del desecho","[RN] Radio-nucleído","[T 1/2]     Periodo de semi-desintegración (días)","Fecha de recolección","Peso neto                     (Peso contenedor lleno - peso contenedor vacío)  (g)","Medición de la tasa de dosis (mSv/h)","constante específica del radionucleido. (mSv m2/h Bq)","Fecha de la medición","Actividad superficial (Bq/m2)","Actividad total estimada  (Bq)","[CA] Concentración de actividad  (Bq/g)","[ND]            Nivel de dispensa (Bq/g)","[t]                  Tiempo estimado de almacenamiento (días)","Fecha probable de dispensa","Medición de comprobación  (mSv) ","Fecha de vertido             "]
["5","Tc-99m",{"$f":"VLOOKUP(B2,'datos Emisores Gamma'!$B$2:$C$28,2,FALSE)","v":0.25},"2016-06-05","5000","8",{"$f":"VLOOKUP(B2,'datos Emisores Gamma'!$B$2:$E$28,4,FALSE)/1000000","v":3.317E-11},"2016-06-06",null,null,{"$f":"+(0.09*2*F2)/(G2*E2)","v":8682544.4678926747},{"$f":"VLOOKUP(B2,'datos Emisores Gamma'!$B$2:$E$28,3,FALSE)","v":100},{"$f":"IF(L2>K2,0,(-C2*LN(L2/K2))/LN(2))","v":4.1014575684946166},{"$f":"H2+M2","v":"2016-06-10T02:26:05.934"}]
[10,"I-131",{"$f":"VLOOKUP(B3,'datos Emisores Gamma'!$B$2:$C$28,2,FALSE)","v":8.0399999999999991},"2017-01-01",200,0.1,{"$f":"VLOOKUP(B3,'datos Emisores Gamma'!$B$2:$E$28,4,FALSE)/1000000","v":7.6400000000000002E-11},"2017-05-05",null,null,{"$f":"+(0.09*2*F3)/(G3*E3)","v":1178010.4712041882},{"$f":"VLOOKUP(B3,'datos Emisores Gamma'!$B$2:$E$28,3,FALSE)","v":100},108.73348053155513,"2017-08-21T17:36:12.718"]
["18","I-131",{"$f":"VLOOKUP(B4,'datos Emisores Gamma'!$B$2:$C$28,2,FALSE)","v":8.0399999999999991},"2017-05-15","100","0.1",{"$f":"VLOOKUP(B4,'datos Emisores Gamma'!$B$2:$E$28,4,FALSE)/1000000","v":7.6400000000000002E-11},"15-ago-2017",null,null,2356020.9424083764,{"$f":"VLOOKUP(B4,'datos Emisores Gamma'!$B$2:$E$28,3,FALSE)","v":100},{"$f":"IF(L4>K4,0,(-C4*LN(L4/K4))/LN(2))","v":116.77348053155514},{"$f":"H4+M4","v":"2017-12-09T18:33:48.718"}]
[null,null,{"$f":"VLOOKUP(B5,'datos Emisores Gamma'!$B$2:$C$28,2,FALSE)","v":{"$error":"#N/A"}},null,null,null,{"$f":"VLOOKUP(B5,'datos Emisores Gamma'!$B$2:$E$28,4,FALSE)/1000000","v":{"$error":"#N/A"}},null,null,null,{"$error":"#N/A"},{"$f":"VLOOKUP(B5,'datos Emisores Gamma'!$B$2:$E$28,3,FALSE)","v":{"$error":"#N/A"}},{"$error":"#N/A"},{"$error":"#N/A"}]
[null,null,{"$f":"VLOOKUP(B6,'datos Emisores Gamma'!$B$2:$C$28,2,FALSE)","v":{"$error":"#N/A"}},null,null,null,{"$f":"VLOOKUP(B6,'datos Emisores Gamma'!$B$2:$E$28,4,FALSE)/1000000","v":{"$error":"#N/A"}},null,null,null,{"$error":"#N/A"},{"$f":"VLOOKUP(B6,'datos Emisores Gamma'!$B$2:$E$28,3,FALSE)","v":{"$error":"#N/A"}},{"$error":"#N/A"},{"$error":"#N/A"}]
[null,null,{"$f":"VLOOKUP(B7,'datos Emisores Gamma'!$B$2:$C$28,2,FALSE)","v":{"$error":"#N/A"}},null,null,null,{"$f":"VLOOKUP(B7,'datos Emisores Gamma'!$B$2:$E$28,4,FALSE)/1000000","v":{"$error":"#N/A"}},null,null,null,{"$error":"#N/A"},{"$f":"VLOOKUP(B7,'datos Emisores Gamma'!$B$2:$E$28,3,FALSE)","v":{"$error":"#N/A"}},{"$error":"#N/A"},{"$error":"#N/A"}]
[null,null,{"$f":"VLOOKUP(B8,'datos Emisores Gamma'!$B$2:$C$28,2,FALSE)","v":{"$error":"#N/A"}},null,null,null,{"$f":"VLOOKUP(B8,'datos Emisores Gamma'!$B$2:$E$28,4,FALSE)/1000000","v":{"$error":"#N/A"}},null,null,null,{"$error":"#N/A"},{"$f":"VLOOKUP(B8,'datos Emisores Gamma'!$B$2:$E$28,3,FALSE)","v":{"$error":"#N/A"}},{"$error":"#N/A"},{"$error":"#N/A"}]
[null,null,{"$f":"VLOOKUP(B9,'datos Emisores Gamma'!$B$2:$C$28,2,FALSE)","v":{"$error":"#N/A"}},null,null,null,{"$f":"VLOOKUP(B9,'datos Emisores Gamma'!$B$2:$E$28,4,FALSE)/1000000","v":{"$error":"#N/A"}},null,null,null,{"$error":"#N/A"},{"$f":"VLOOKUP(B9,'datos Emisores Gamma'!$B$2:$E$28,3,FALSE)","v":{"$error":"#N/A"}},{"$error":"#N/A"},{"$error":"#N/A"}]
[null,null,{"$f":"VLOOKUP(B10,'datos Emisores Gamma'!$B$2:$C$28,2,FALSE)","v":{"$error":"#N/A"}},null,null,null,{"$f":"VLOOKUP(B10,'datos Emisores Gamma'!$B$2:$E$28,4,FALSE)/1000000","v":{"$error":"#N/A"}},null,null,null,{"$error":"#N/A"},{"$f":"VLOOKUP(B10,'datos Emisores Gamma'!$B$2:$E$28,3,FALSE)","v":{"$error":"#N/A"}},{"$error":"#N/A"},{"$error":"#N/A"}]
[null,null,{"$f":"VLOOKUP(B11,'datos Emisores Gamma'!$B$2:$C$28,2,FALSE)","v":{"$error":"#N/A"}},null,null,null,{"$f":"VLOOKUP(B11,'datos Emisores Gamma'!$B$2:$E$28,4,FALSE)/1000000","v":{"$error":"#N/A"}},null,null,null,{"$error":"#N/A"},{"$f":"VLOOKUP(B11,'datos Emisores Gamma'!$B$2:$E$28,3,FALSE)","v":{"$error":"#N/A"}},{"$error":"#N/A"},{"$error":"#N/A"}]
[null,null,{"$f":"VLOOKUP(B12,'datos Emisores Gamma'!$B$2:$C$28,2,FALSE)","v":{"$error":"#N/A"}},null,null,null,{"$f":"VLOOKUP(B12,'datos Emisores Gamma'!$B$2:$E$28,4,FALSE)/1000000","v":{"$error":"#N/A"}},null,null,null,{"$error":"#N/A"},{"$f":"VLOOKUP(B12,'datos Emisores Gamma'!$B$2:$E$28,3,FALSE)","v":{"$error":"#N/A"}},{"$error":"#N/A"},{"$error":"#N/A"}]
[null,null,{"$f":"VLOOKUP(B13,'datos Emisores Gamma'!$B$2:$C$28,2,FALSE)","v":{"$error":"#N/A"}},null,null,null,{"$f":"VLOOKUP(B13,'datos Emisores Gamma'!$B$2:$E$28,4,FALSE)/1000000","v":{"$error":"#N/A"}},null,null,null,{"$error":"#N/A"},{"$f":"VLOOKUP(B13,'datos Emisores Gamma'!$B$2:$E$28,3,FALSE)","v":{"$error":"#N/A"}},{"$error":"#N/A"},{"$error":"#N/A"}]
[null,null,{"$f":"VLOOKUP(B14,'datos Emisores Gamma'!$B$2:$C$28,2,FALSE)","v":{"$error":"#N/A"}},null,null,null,{"$f":"VLOOKUP(B14,'datos Emisores Gamma'!$B$2:$E$28,4,FALSE)/1000000","v":{"$error":"#N/A"}},null,null,null,{"$error":"#N/A"},{"$f":"VLOOKUP(B14,'datos Emisores Gamma'!$B$2:$E$28,3,FALSE)","v":{"$error":"#N/A"}},{"$error":"#N/A"},{"$error":"#N/A"}]
[null,null,{"$f":"VLOOKUP(B15,'datos Emisores Gamma'!$B$2:$C$28,2,FALSE)","v":{"$error":"#N/A"}},null,null,null,{"$f":"VLOOKUP(B15,'datos Emisores Gamma'!$B$2:$E$28,4,FALSE)/1000000","v":{"$error":"#N/A"}},null,null,null,{"$error":"#N/A"},{"$f":"VLOOKUP(B15,'datos Emisores Gamma'!$B$2:$E$28,3,FALSE)","v":{"$error":"#N/A"}},{"$error":"#N/A"},{"$error":"#N/A"}]
[null,null,{"$f":"VLOOKUP(B16,'datos Emisores Gamma'!$B$2:$C$28,2,FALSE)","v":{"$error":"#N/A"}},null,null,null,{"$f":"VLOOKUP(B16,'datos Emisores Gamma'!$B$2:$E$28,4,FALSE)/1000000","v":{"$error":"#N/A"}},null,null,null,{"$error":"#N/A"},{"$f":"VLOOKUP(B16,'datos Emisores Gamma'!$B$2:$E$28,3,FALSE)","v":{"$error":"#N/A"}},{"$error":"#N/A"},{"$error":"#N/A"}]
[null,null,{"$f":"VLOOKUP(B17,'datos Emisores Gamma'!$B$2:$C$28,2,FALSE)","v":{"$error":"#N/A"}},null,null,null,{"$f":"VLOOKUP(B17,'datos Emisores Gamma'!$B$2:$E$28,4,FALSE)/1000000","v":{"$error":"#N/A"}},null,null,null,{"$error":"#N/A"},{"$f":"VLOOKUP(B17,'datos Emisores Gamma'!$B$2:$E$28,3,FALSE)","v":{"$error":"#N/A"}},{"$error":"#N/A"},{"$error":"#N/A"}]
[null,null,{"$f":"VLOOKUP(B18,'datos Emisores Gamma'!$B$2:$C$28,2,FALSE)","v":{"$error":"#N/A"}},null,null,null,{"$f":"VLOOKUP(B18,'datos Emisores Gamma'!$B$2:$E$28,4,FALSE)/1000000","v":{"$error":"#N/A"}},null,null,null,{"$error":"#N/A"},{"$f":"VLOOKUP(B18,'datos Emisores Gamma'!$B$2:$E$28,3,FALSE)","v":{"$error":"#N/A"}},{"$f":"IF(L18>K18,0,(-C18*LN(L18/K18))/LN(2))","v":{"$error":"#N/A"}},{"$f":"H18+M18","v":{"$error":"#N/A"}}]
[null,null,{"$f":"VLOOKUP(B19,'datos Emisores Gamma'!$B$2:$C$28,2,FALSE)","v":{"$error":"#N/A"}},null,null,null,{"$f":"VLOOKUP(B19,'datos Emisores Gamma'!$B$2:$E$28,4,FALSE)/1000000","v":{"$error":"#N/A"}},null,null,null,{"$error":"#N/A"},{"$f":"VLOOKUP(B19,'datos Emisores Gamma'!$B$2:$E$28,3,FALSE)","v":{"$error":"#N/A"}},{"$error":"#N/A"},{"$error":"#N/A"}]
[null,null,{"$f":"VLOOKUP(B20,'datos Emisores Gamma'!$B$2:$C$28,2,FALSE)","v":{"$error":"#N/A"}},null,null,null,{"$f":"VLOOKUP(B20,'datos Emisores Gamma'!$B$2:$E$28,4,FALSE)/1000000","v":{"$error":"#N/A"}},null,null,null,{"$error":"#N/A"},{"$f":"VLOOKUP(B20,'datos Emisores Gamma'!$B$2:$E$28,3,FALSE)","v":{"$error":"#N/A"}},{"$error":"#N/A"},{"$error":"#N/A"}]
[null,null,{"$f":"VLOOKUP(B21,'datos Emisores Gamma'!$B$2:$C$28,2,FALSE)","v":{"$error":"#N/A"}},null,null,null,{"$f":"VLOOKUP(B21,'datos Emisores Gamma'!$B$2:$E$28,4,FALSE)/1000000","v":{"$error":"#N/A"}},null,null,null,{"$error":"#N/A"},{"$f":"VLOOKUP(B21,'datos Emisores Gamma'!$B$2:$E$28,3,FALSE)","v":{"$error":"#N/A"}},{"$error":"#N/A"},{"$error":"#N/A"}]
[null,null,{"$f":"VLOOKUP(B22,'datos Emisores Gamma'!$B$2:$C$28,2,FALSE)","v":{"$error":"#N/A"}},null,null,null,{"$f":"VLOOKUP(B22,'datos Emisores Gamma'!$B$2:$E$28,4,FALSE)/1000000","v":{"$error":"#N/A"}},null,null,null,{"$error":"#N/A"},{"$f":"VLOOKUP(B22,'datos Emisores Gamma'!$B$2:$E$28,3,FALSE)","v":{"$error":"#N/A"}},{"$error":"#N/A"},{"$error":"#N/A"}]
[null,null,{"$f":"VLOOKUP(B23,'datos Emisores Gamma'!$B$2:$C$28,2,FALSE)","v":{"$error":"#N/A"}},null,null,null,{"$f":"VLOOKUP(B23,'datos Emisores Gamma'!$B$2:$E$28,4,FALSE)/1000000","v":{"$error":"#N/A"}},null,null,null,{"$error":"#N/A"},{"$f":"VLOOKUP(B23,'datos Emisores Gamma'!$B$2:$E$28,3,FALSE)","v":{"$error":"#N/A"}},{"$error":"#N/A"},{"$error":"#N/A"}]
[null,null,{"$f":"VLOOKUP(B24,'datos Emisores Gamma'!$B$2:$C$28,2,FALSE)","v":{"$error":"#N/A"}},null,null,null,{"$f":"VLOOKUP(B24,'datos Emisores Gamma'!$B$2:$E$28,4,FALSE)/1000000","v":{"$error":"#N/A"}},null,null,null,{"$error":"#N/A"},{"$f":"VLOOKUP(B24,'datos Emisores Gamma'!$B$2:$E$28,3,FALSE)","v":{"$error":"#N/A"}},{"$error":"#N/A"},{"$error":"#N/A"}]
[null,null,{"$f":"VLOOKUP(B25,'datos Emisores Gamma'!$B$2:$C$28,2,FALSE)","v":{"$error":"#N/A"}},null,null,null,{"$f":"VLOOKUP(B25,'datos Emisores Gamma'!$B$2:$E$28,4,FALSE)/1000000","v":{"$error":"#N/A"}},null,null,null,{"$error":"#N/A"},{"$f":"VLOOKUP(B25,'datos Emisores Gamma'!$B$2:$E$28,3,FALSE)","v":{"$error":"#N/A"}},{"$error":"#N/A"},{"$error":"#N/A"}]
[null,null,{"$f":"VLOOKUP(B26,'datos Emisores Gamma'!$B$2:$C$28,2,FALSE)","v":{"$error":"#N/A"}},null,null,null,{"$f":"VLOOKUP(B26,'datos Emisores Gamma'!$B$2:$E$28,4,FALSE)/1000000","v":{"$error":"#N/A"}},null,null,null,{"$error":"#N/A"},{"$f":"VLOOKUP(B26,'datos Emisores Gamma'!$B$2:$E$28,3,FALSE)","v":{"$error":"#N/A"}},{"$error":"#N/A"},{"$error":"#N/A"}]

{"sheet":"beta","index":1,"n_rows":22,"n_cols":19,"rows_kept":22,"cut":false,"hidden":false,"merged":[]}
["[ID] Identificación del Desecho","[RN] Radio-nucleído","[T 1/2]  Periodo de semi-desintegración (días)","Fecha de recolección","Peso neto (Peso contenedor lleno - peso contenedor vacío)   (g)","Medición de fluencia de partículas (cps)","Fecha de la medición","Fondo (cps)","Eficiencia de detector (0-1)","Area de detector (m2)","Distancia de medida ","Concentracion de actividad  del desecho (Bq/g)","Incertidumbre en el cálculo de la concetración de actividad  (Bq/g)","Nivel de dispensa (Bq/g)","Tiempo estimado de almacenamiento (días)","Fecha probable de dispensa","Medición de control (cps)","Fecha de gestión","Via de Gestión"]
["11","P-32",{"$f":"VLOOKUP(B2,'datos Emisores Beta '!$A$2:$B$4,2,FALSE)","v":14.3},"15-05-17","50",300000,"15-05-17","8",0.8,1.6000000000000001E-3,null,{"$f":"IF(ISBLANK(F2),\"\",(4*PI()*(F2-H2)*2*0.0025)/(J2*I2*E2))","v":294516.45729240915},null,{"$f":"LOOKUP(B2,'datos Emisores Beta '!A$2:A$4,'datos Emisores Beta '!C$2:C$4)","v":1000},{"$f":"IF(N2>L2,0,(C2*LN((L2)/N2))/LN(2))","v":117.29152352739018},{"$f":"G2+O2","v":"2017-09-09T06:59:47.633"}]
["17","S-35",{"$f":"VLOOKUP(B3,'datos Emisores Beta '!$A$2:$B$4,2,FALSE)","v":87.4},"01-06-17","10","50000","01-06-17","8",0.8,1.6000000000000001E-3,null,{"$f":"IF(ISBLANK(F3),\"\",(4*PI()*(F3-H3)*2*0.0025)/(J3*I3*E3))","v":245397.65615353271},null,{"$f":"LOOKUP(B3,'datos Emisores Beta '!A$2:A$4,'datos Emisores Beta '!C$2:C$4)","v":100000},{"$f":"IF(N3>L3,0,(C3*LN((L3)/N3))/LN(2))","v":113.19361644059583},{"$f":"G3+O3","v":"2017-09-22T04:38:48.460"}]
[null,null,{"$f":"VLOOKUP(B4,'datos Emisores Beta '!$A$2:$B$4,2,FALSE)","v":{"$error":"#N/A"}},null,null,null,null,null,0.8,null,null,"",null,{"$f":"LOOKUP(B4,'datos Emisores Beta '!A$2:A$4,'datos Emisores Beta '!C$2:C$4)","v":{"$error":"#N/A"}},{"$error":"#N/A"},{"$error":"#N/A"}]
[null,null,{"$f":"VLOOKUP(B5,'datos Emisores Beta '!$A$2:$B$4,2,FALSE)","v":{"$error":"#N/A"}},null,null,null,null,null,0.8,null,null,"",null,{"$f":"LOOKUP(B5,'datos Emisores Beta '!A$2:A$4,'datos Emisores Beta '!C$2:C$4)","v":{"$error":"#N/A"}},{"$error":"#N/A"},{"$error":"#N/A"}]
[null,null,{"$f":"VLOOKUP(B6,'datos Emisores Beta '!$A$2:$B$4,2,FALSE)","v":{"$error":"#N/A"}},null,null,null,null,null,0.8,null,null,"",null,{"$f":"LOOKUP(B6,'datos Emisores Beta '!A$2:A$4,'datos Emisores Beta '!C$2:C$4)","v":{"$error":"#N/A"}},{"$error":"#N/A"},{"$error":"#N/A"}]
[null,null,{"$f":"VLOOKUP(B7,'datos Emisores Beta '!$A$2:$B$4,2,FALSE)","v":{"$error":"#N/A"}},null,null,null,null,null,0.8,null,null,"",null,{"$f":"LOOKUP(B7,'datos Emisores Beta '!A$2:A$4,'datos Emisores Beta '!C$2:C$4)","v":{"$error":"#N/A"}},{"$error":"#N/A"},{"$error":"#N/A"}]
[null,null,{"$f":"VLOOKUP(B8,'datos Emisores Beta '!$A$2:$B$4,2,FALSE)","v":{"$error":"#N/A"}},null,null,null,null,null,0.8,null,null,"",null,{"$f":"LOOKUP(B8,'datos Emisores Beta '!A$2:A$4,'datos Emisores Beta '!C$2:C$4)","v":{"$error":"#N/A"}},{"$error":"#N/A"},{"$error":"#N/A"}]
[null,null,{"$f":"VLOOKUP(B9,'datos Emisores Beta '!$A$2:$B$4,2,FALSE)","v":{"$error":"#N/A"}},null,null,null,null,null,0.8,null,null,"",null,{"$f":"LOOKUP(B9,'datos Emisores Beta '!A$2:A$4,'datos Emisores Beta '!C$2:C$4)","v":{"$error":"#N/A"}},{"$error":"#N/A"},{"$error":"#N/A"}]
[null,null,{"$f":"VLOOKUP(B10,'datos Emisores Beta '!$A$2:$B$4,2,FALSE)","v":{"$error":"#N/A"}},null,null,null,null,null,0.8,null,null,"",null,{"$f":"LOOKUP(B10,'datos Emisores Beta '!A$2:A$4,'datos Emisores Beta '!C$2:C$4)","v":{"$error":"#N/A"}},{"$error":"#N/A"},{"$error":"#N/A"}]
[null,null,{"$f":"VLOOKUP(B11,'datos Emisores Beta '!$A$2:$B$4,2,FALSE)","v":{"$error":"#N/A"}},null,null,null,null,null,0.8,null,null,"",null,{"$f":"LOOKUP(B11,'datos Emisores Beta '!A$2:A$4,'datos Emisores Beta '!C$2:C$4)","v":{"$error":"#N/A"}},{"$error":"#N/A"},{"$error":"#N/A"}]
[null,null,{"$f":"VLOOKUP(B12,'datos Emisores Beta '!$A$2:$B$4,2,FALSE)","v":{"$error":"#N/A"}},null,null,null,null,null,0.8,null,null,"",null,{"$f":"LOOKUP(B12,'datos Emisores Beta '!A$2:A$4,'datos Emisores Beta '!C$2:C$4)","v":{"$error":"#N/A"}},{"$error":"#N/A"},{"$error":"#N/A"}]
[null,null,{"$f":"VLOOKUP(B13,'datos Emisores Beta '!$A$2:$B$4,2,FALSE)","v":{"$error":"#N/A"}},null,null,null,null,null,0.8,null,null,"",null,{"$f":"LOOKUP(B13,'datos Emisores Beta '!A$2:A$4,'datos Emisores Beta '!C$2:C$4)","v":{"$error":"#N/A"}},{"$error":"#N/A"},{"$error":"#N/A"}]
[null,null,{"$f":"VLOOKUP(B14,'datos Emisores Beta '!$A$2:$B$4,2,FALSE)","v":{"$error":"#N/A"}},null,null,null,null,null,0.8,null,null,"",null,{"$f":"LOOKUP(B14,'datos Emisores Beta '!A$2:A$4,'datos Emisores Beta '!C$2:C$4)","v":{"$error":"#N/A"}},{"$error":"#N/A"},{"$error":"#N/A"}]
[null,null,{"$f":"VLOOKUP(B15,'datos Emisores Beta '!$A$2:$B$4,2,FALSE)","v":{"$error":"#N/A"}},null,null,null,null,null,0.8,null,null,"",null,{"$f":"LOOKUP(B15,'datos Emisores Beta '!A$2:A$4,'datos Emisores Beta '!C$2:C$4)","v":{"$error":"#N/A"}},{"$error":"#N/A"},{"$error":"#N/A"}]
[null,null,{"$f":"VLOOKUP(B16,'datos Emisores Beta '!$A$2:$B$4,2,FALSE)","v":{"$error":"#N/A"}},null,null,null,null,null,0.8,null,null,"",null,{"$f":"LOOKUP(B16,'datos Emisores Beta '!A$2:A$4,'datos Emisores Beta '!C$2:C$4)","v":{"$error":"#N/A"}},{"$error":"#N/A"},{"$error":"#N/A"}]
[null,null,{"$f":"VLOOKUP(B17,'datos Emisores Beta '!$A$2:$B$4,2,FALSE)","v":{"$error":"#N/A"}},null,null,null,null,null,0.8,null,null,"",null,{"$f":"LOOKUP(B17,'datos Emisores Beta '!A$2:A$4,'datos Emisores Beta '!C$2:C$4)","v":{"$error":"#N/A"}},{"$error":"#N/A"},{"$error":"#N/A"}]
[null,null,{"$f":"VLOOKUP(B18,'datos Emisores Beta '!$A$2:$B$4,2,FALSE)","v":{"$error":"#N/A"}},null,null,null,null,null,0.8,null,null,"",null,{"$f":"LOOKUP(B18,'datos Emisores Beta '!A$2:A$4,'datos Emisores Beta '!C$2:C$4)","v":{"$error":"#N/A"}},{"$error":"#N/A"},{"$error":"#N/A"}]
[null,null,{"$f":"VLOOKUP(B19,'datos Emisores Beta '!$A$2:$B$4,2,FALSE)","v":{"$error":"#N/A"}},null,null,null,null,null,0.8,null,null,"",null,{"$f":"LOOKUP(B19,'datos Emisores Beta '!A$2:A$4,'datos Emisores Beta '!C$2:C$4)","v":{"$error":"#N/A"}},{"$error":"#N/A"},{"$error":"#N/A"}]
[null,null,{"$f":"VLOOKUP(B20,'datos Emisores Beta '!$A$2:$B$4,2,FALSE)","v":{"$error":"#N/A"}},null,null,null,null,null,0.8,null,null,"",null,{"$f":"LOOKUP(B20,'datos Emisores Beta '!A$2:A$4,'datos Emisores Beta '!C$2:C$4)","v":{"$error":"#N/A"}},{"$error":"#N/A"},{"$error":"#N/A"}]
[null,null,{"$f":"VLOOKUP(B21,'datos Emisores Beta '!$A$2:$B$4,2,FALSE)","v":{"$error":"#N/A"}},null,null,null,null,null,0.8,null,null,"",null,{"$f":"LOOKUP(B21,'datos Emisores Beta '!A$2:A$4,'datos Emisores Beta '!C$2:C$4)","v":{"$error":"#N/A"}},{"$error":"#N/A"},{"$error":"#N/A"}]
[null,null,{"$f":"VLOOKUP(B22,'datos Emisores Beta '!$A$2:$B$4,2,FALSE)","v":{"$error":"#N/A"}},null,null,null,null,null,0.8,null,null,"",null,{"$f":"LOOKUP(B22,'datos Emisores Beta '!A$2:A$4,'datos Emisores Beta '!C$2:C$4)","v":{"$error":"#N/A"}},{"$error":"#N/A"},{"$error":"#N/A"}]

{"sheet":"datos Emisores Gamma","index":2,"n_rows":28,"n_cols":5,"rows_kept":28,"cut":false,"hidden":false,"merged":[]}
["ITEM","Radionuclido","T1/2 (días)","Nivel Dispensa [>1000kg] (Bq/g)","Gamma (mSv/h.MBq)"]
[2,"C-11",1.4159E-2,10,1.908E-4]
[4,"O-15",1.4147999999999999E-3,100,1.9110000000000001E-4]
[5,"F-18",7.4999999999999997E-2,10,1.851E-4]
[6,"Na-24",0.625,10,5.1199999999999998E-4]
[12,"Sc-46",83.79,10,3.1540000000000002E-4]
[13,"Cr-51",27.7,1000,6.3199999999999996E-6]
[15,"Co-58",70.8,10,1.652E-4]
[16,"Fe-59",44.5,10,1.7870000000000001E-4]
[17,"Ga-67",3.26,100,3.04E-5]
[18,"Ga-68 ",4.6899999999999997E-2,10,1.763E-4]
[21,"Sr-85",64.8,10,2.0379999999999999E-4]
[22,"Rb-86",18.600000000000001,100,1.4579999999999999E-4]
[23,"Rb82m",0.2666,10,2.076E-4]
[24,"Sr89",50.5,1000,2.2049999999999999E-8]
[25,"Y90",2.67,1000,1.316E-4]
[26,"Nb-95",34.9,10,1.295E-4]
[27,"Tc-99m",0.25,100,3.3170000000000003E-5]
[28,"In-111",2.8,100,1.3559999999999999E-4]
[29,"I-123",0.55000000000000004,100,7.47E-5]
[30,"I-125",60.14,1000,7.4320000000000007E-5]
[31,"I-131",8.0399999999999991,100,7.64E-5]
[33,"Xe-133 ",5.2,1000,2.7800000000000001E-5]
[34,"Sm-153",1.9,100,2.44E-5]
[35,"Er-169",9.3000000000000007,10000,3.4059999999999999E-10]
[36,"Au-198 ",2.7,100,7.8809999999999999E-5]
[37,"Tl-201",3,100,2.372E-5]
[38,"Hg-203",46.6,100,6.8410000000000004E-5]

{"sheet":"datos Emisores Beta ","index":3,"n_rows":4,"n_cols":5,"rows_kept":4,"cut":false,"hidden":false,"merged":[]}
["Radionuclido","T1/2 (días)","Nivel Dispensa [>1000kg] (Bq/g)","Nivel Exención [>1000kg] (Bq/g)","Gamma"]
["P-32",14.3,1000,null," - "]
["P-33",25.4,100000,null," - "]
["S-35",87.4,100000,null," - "]

{"sheet":"datos de entrada","index":4,"n_rows":6,"n_cols":1,"rows_kept":6,"cut":false,"hidden":false,"merged":[[0,0,0,1]]}
["ESQUEMA DE MEDICIÓN "]
[]
[]
[]
["Para emisores gamma d= 0.3 metros"]
["Para emisores beta d=0.05 metros"]