{"text_format":"1","workbook":"xlsx","n_sheets":2,"sheets":["registro","Data"],"not_rendered":{"charts":0,"images":1,"macros":1,"external_links":0,"defined_names":20,"comments":0,"pivot_tables":0},"unopened":[],"bounds":{"document_bytes":16777216,"sheet_cells":100000,"rows_first":2000,"rows_last":500,"rows_between":2000,"halvings":0,"cell_chars":16384,"cell_head_chars":4096},"cells_cut":0,"cells_raw":0,"read":"whole","date_system":"1900"}

{"sheet":"registro","index":0,"n_rows":29,"n_cols":17,"rows_kept":29,"cut":false,"hidden":false,"merged":[]}
["[ID] Identificación del desecho","[RN] Radio-nucleído","[T 1/2]  Periodo de semi-desintegración (días)","Fecha de recolección","Volumen       (l)","Medición de fluencia de partículas (cps)","Fecha de la medición","Fondo       (cps)","Eficiencia de detector       (0-1)","Concentracion de actividad         (Bq/l) ","Nivel de dispensa (Bq/l)","Tiempo estimado de almacenamiento (días)","Fecha probable de dispensa","Medición de control       (cps)","Actividad Anual liberada (Bq/año)","Límite de liberación anual (Bq/año)","Fecha de vertido (d/m/a)"]
["4","I-131",{"$f":"VLOOKUP(B2,Data!$A$2:$C$24,2,FALSE)","v":8},"15-abr-2017","0.5","450","15-abr-2017","10","0.8",{"$f":"IF(ISBLANK(F2),\"\",((F2-H2)*1.2)/(I2*E2))","v":1320},{"$f":"VLOOKUP(B2,Data!$A$2:$C$24,3,FALSE)","v":62.3},{"$f":"IF(K2>J2,0,(-C2*LN((K2/J2))/LN(2)))","v":35.241295648873411},{"$f":"G2+L2","v":"2017-05-20T05:47:27.944"}]
[null,null,{"$f":"VLOOKUP(B3,Data!$A$2:$C$24,2,FALSE)","v":{"$error":"#N/A"}},null,null,null,null,null,null,{"$f":"IF(ISBLANK(F3),\"\",((F3-H3)*1.2)/(I3*E3))","v":""},{"$f":"VLOOKUP(B3,Data!$A$2:$C$24,3,FALSE)","v":{"$error":"#N/A"}},{"$f":"IF(K3>J3,0,(-C3*LN((K3/J3))/LN(2)))","v":{"$error":"#N/A"}},{"$error":"#N/A"}]
[null,null,{"$f":"VLOOKUP(B4,Data!$A$2:$C$24,2,FALSE)","v":{"$error":"#N/A"}},null,null,null,null,null,null,"",{"$f":"VLOOKUP(B4,Data!$A$2:$C$24,3,FALSE)","v":{"$error":"#N/A"}},{"$error":"#N/A"},{"$error":"#N/A"}]
[null,null,{"$f":"VLOOKUP(B5,Data!$A$2:$C$24,2,FALSE)","v":{"$error":"#N/A"}},null,null,null,null,"",null,"",{"$f":"VLOOKUP(B5,Data!$A$2:$C$24,3,FALSE)","v":{"$error":"#N/A"}},{"$error":"#N/A"},{"$error":"#N/A"}]
[null,null,{"$f":"VLOOKUP(B6,Data!$A$2:$C$24,2,FALSE)","v":{"$error":"#N/A"}},null,null,null,null,"",null,"",{"$f":"VLOOKUP(B6,Data!$A$2:$C$24,3,FALSE)","v":{"$error":"#N/A"}},{"$error":"#N/A"},{"$error":"#N/A"}]
[null,null,{"$f":"VLOOKUP(B7,Data!$A$2:$C$24,2,FALSE)","v":{"$error":"#N/A"}},null,null,null,null,"",null,"",{"$f":"VLOOKUP(B7,Data!$A$2:$C$24,3,FALSE)","v":{"$error":"#N/A"}},{"$error":"#N/A"},{"$error":"#N/A"}]
[null,null,{"$f":"VLOOKUP(B8,Data!$A$2:$C$24,2,FALSE)","v":{"$error":"#N/A"}},null,null,null,null,"",null,"",{"$f":"VLOOKUP(B8,Data!$A$2:$C$24,3,FALSE)","v":{"$error":"#N/A"}},{"$error":"#N/A"},{"$error":"#N/A"}]
[null,null,{"$f":"VLOOKUP(B9,Data!$A$2:$C$24,2,FALSE)","v":{"$error":"#N/A"}},null,null,null,null,"",null,"",{"$f":"VLOOKUP(B9,Data!$A$2:$C$24,3,FALSE)","v":{"$error":"#N/A"}},{"$error":"#N/A"},{"$error":"#N/A"}]
[null,null,{"$f":"VLOOKUP(B10,Data!$A$2:$C$24,2,FALSE)","v":{"$error":"#N/A"}},null,null,null,null,"",null,"",{"$f":"VLOOKUP(B10,Data!$A$2:$C$24,3,FALSE)","v":{"$error":"#N/A"}},{"$error":"#N/A"},{"$error":"#N/A"}]
[null,null,{"$f":"VLOOKUP(B11,Data!$A$2:$C$24,2,FALSE)","v":{"$error":"#N/A"}},null,null,null,null,"",null,"",{"$f":"VLOOKUP(B11,Data!$A$2:$C$24,3,FALSE)","v":{"$error":"#N/A"}},{"$error":"#N/A"},{"$error":"#N/A"}]
[null,null,{"$f":"VLOOKUP(B12,Data!$A$2:$C$24,2,FALSE)","v":{"$error":"#N/A"}},null,null,null,null,"",null,"",{"$f":"VLOOKUP(B12,Data!$A$2:$C$24,3,FALSE)","v":{"$error":"#N/A"}},{"$error":"#N/A"},{"$error":"#N/A"}]
[null,null,{"$f":"VLOOKUP(B13,Data!$A$2:$C$24,2,FALSE)","v":{"$error":"#N/A"}},null,null,null,null,"",null,"",{"$f":"VLOOKUP(B13,Data!$A$2:$C$24,3,FALSE)","v":{"$error":"#N/A"}},{"$error":"#N/A"},{"$error":"#N/A"}]
[null,null,{"$error":"#N/A"},null,null,null,null,"",null,"",{"$error":"#N/A"},{"$error":"#N/A"},{"$error":"#N/A"}]
[null,null,{"$error":"#N/A"},null,null,null,null,"",null,"",{"$error":"#N/A"},{"$error":"#N/A"},{"$error":"#N/A"}]
[null,null,{"$f":"VLOOKUP(B16,Data!$A$2:$C$24,2,FALSE)","v":{"$error":"#N/A"}},null,null,null,null,"",null,"",{"$f":"VLOOKUP(B16,Data!$A$2:$C$24,3,FALSE)","v":{"$error":"#N/A"}},{"$error":"#N/A"},{"$f":"G16+L16","v":{"$error":"#N/A"}}]
[null,null,{"$f":"VLOOKUP(B17,Data!$A$2:$C$24,2,FALSE)","v":{"$error":"#N/A"}},null,null,null,null,"",null,"",{"$f":"VLOOKUP(B17,Data!$A$2:$C$24,3,FALSE)","v":{"$error":"#N/A"}},{"$error":"#N/A"},{"$f":"G17+L17","v":{"$error":"#N/A"}}]
[null,null,{"$error":"#N/A"},null,null,null,null,"",null,"",{"$error":"#N/A"},{"$error":"#N/A"},{"$error":"#N/A"}]
[null,null,{"$error":"#N/A"},null,null,null,null,"",null,"",{"$error":"#N/A"},{"$error":"#N/A"},{"$error":"#N/A"}]
[null,null,{"$error":"#N/A"},null,null,null,null,"",null,"",{"$error":"#N/A"},{"$error":"#N/A"},{"$error":"#N/A"}]
[null,null,{"$f":"VLOOKUP(B21,Data!$A$2:$C$24,2,FALSE)","v":{"$error":"#N/A"}},null,null,null,null,"",null,"",{"$f":"VLOOKUP(B21,Data!$A$2:$C$24,3,FALSE)","v":{"$error":"#N/A"}},{"$error":"#N/A"},{"$f":"G21+L21","v":{"$error":"#N/A"}}]
[null,null,{"$f":"VLOOKUP(B22,Data!$A$2:$C$24,2,FALSE)","v":{"$error":"#N/A"}},null,null,null,null,"",null,"",{"$f":"VLOOKUP(B22,Data!$A$2:$C$24,3,FALSE)","v":{"$error":"#N/A"}},{"$error":"#N/A"},{"$f":"G22+L22","v":{"$error":"#N/A"}}]
[null,null,{"$error":"#N/A"},null,null,null,null,"",null,"",{"$error":"#N/A"},{"$error":"#N/A"},{"$error":"#N/A"}]
[null,null,{"$error":"#N/A"},null,null,null,null,"",null,"",{"$error":"#N/A"},{"$error":"#N/A"},{"$error":"#N/A"}]
[null,null,{"$error":"#N/A"},null,null,null,null,"",null,"",{"$error":"#N/A"},{"$error":"#N/A"},{"$error":"#N/A"}]
[null,null,{"$f":"VLOOKUP(B26,Data!$A$2:$C$24,2,FALSE)","v":{"$error":"#N/A"}},null,null,null,null,"",null,"",{"$f":"VLOOKUP(B26,Data!$A$2:$C$24,3,FALSE)","v":{"$error":"#N/A"}},{"$error":"#N/A"},{"$f":"G26+L26","v":{"$error":"#N/A"}}]
[null,null,{"$f":"VLOOKUP(B27,Data!$A$2:$C$24,2,FALSE)","v":{"$error":"#N/A"}},null,null,null,null,"",null,"",{"$f":"VLOOKUP(B27,Data!$A$2:$C$24,3,FALSE)","v":{"$error":"#N/A"}},{"$error":"#N/A"},{"$f":"G27+L27","v":{"$error":"#N/A"}}]
[null,null,{"$error":"#N/A"},null,null,null,null,"",null,"",{"$error":"#N/A"},{"$error":"#N/A"},{"$error":"#N/A"}]
[null,null,{"$error":"#N/A"},null,null,null,null,"",null,"",{"$error":"#N/A"},{"$error":"#N/A"},{"$error":"#N/A"}]

{"sheet":"Data","index":1,"n_rows":24,"n_cols":3,"rows_kept":24,"cut":false,"hidden":false,"merged":[]}
["Radionuclido","T1/2 (días)","Nivel Dispensa (Bq/l)"]
["Na-24",0.625,3190]
["P-32",14.2,571]
["S-35",87.5,10500]
["K-42",{"$f":"12.4/24","v":0.51666666666666672},3190]
["Ca-47",4.5,856]
["Cr-51",27.7,36100]
["Fe-59",44.6,761]
["Co-58",70.8,1850]
["Ga-67",3.3,7210]
["Sr-85",64.8,2450]
["Sr-89",50.4,527]
["Y-90",3.2,507]
["Mo-99",2.8,2280]
["Tc-99m",{"$f":"6/24","v":0.25},62300]
["In-111",2.8,4720]
["I-123",13.1,6520]
["I-125",60,91.3]
["I-131",8,62.3]
["Er-169",9.4,3700]
["Au-198",2.7,1370]
["Hg-197",2.7,13800]
["Hg-203",46.6,2540]
["Tl-201",3,14400]